BEGIN:VCALENDAR
VERSION:2.0
PRODID:-//Yoga - A-corps - Le Roux Nicolas - ECPv6.15.20//NONSGML v1.0//EN
CALSCALE:GREGORIAN
METHOD:PUBLISH
X-ORIGINAL-URL:https://yoga-a-corps-le-roux-nicolas.institutdegestiondustress.com
X-WR-CALDESC:Évènements pour Yoga - A-corps - Le Roux Nicolas
REFRESH-INTERVAL;VALUE=DURATION:PT1H
X-Robots-Tag:noindex
X-PUBLISHED-TTL:PT1H
BEGIN:VTIMEZONE
TZID:Europe/Paris
BEGIN:DAYLIGHT
TZOFFSETFROM:+0100
TZOFFSETTO:+0200
TZNAME:CEST
DTSTART:20230326T010000
END:DAYLIGHT
BEGIN:STANDARD
TZOFFSETFROM:+0200
TZOFFSETTO:+0100
TZNAME:CET
DTSTART:20231029T010000
END:STANDARD
BEGIN:DAYLIGHT
TZOFFSETFROM:+0100
TZOFFSETTO:+0200
TZNAME:CEST
DTSTART:20240331T010000
END:DAYLIGHT
BEGIN:STANDARD
TZOFFSETFROM:+0200
TZOFFSETTO:+0100
TZNAME:CET
DTSTART:20241027T010000
END:STANDARD
BEGIN:DAYLIGHT
TZOFFSETFROM:+0100
TZOFFSETTO:+0200
TZNAME:CEST
DTSTART:20250330T010000
END:DAYLIGHT
BEGIN:STANDARD
TZOFFSETFROM:+0200
TZOFFSETTO:+0100
TZNAME:CET
DTSTART:20251026T010000
END:STANDARD
BEGIN:DAYLIGHT
TZOFFSETFROM:+0100
TZOFFSETTO:+0200
TZNAME:CEST
DTSTART:20260329T010000
END:DAYLIGHT
BEGIN:STANDARD
TZOFFSETFROM:+0200
TZOFFSETTO:+0100
TZNAME:CET
DTSTART:20261025T010000
END:STANDARD
BEGIN:DAYLIGHT
TZOFFSETFROM:+0100
TZOFFSETTO:+0200
TZNAME:CEST
DTSTART:20270328T010000
END:DAYLIGHT
BEGIN:STANDARD
TZOFFSETFROM:+0200
TZOFFSETTO:+0100
TZNAME:CET
DTSTART:20271031T010000
END:STANDARD
BEGIN:DAYLIGHT
TZOFFSETFROM:+0100
TZOFFSETTO:+0200
TZNAME:CEST
DTSTART:20280326T010000
END:DAYLIGHT
BEGIN:STANDARD
TZOFFSETFROM:+0200
TZOFFSETTO:+0100
TZNAME:CET
DTSTART:20281029T010000
END:STANDARD
BEGIN:DAYLIGHT
TZOFFSETFROM:+0100
TZOFFSETTO:+0200
TZNAME:CEST
DTSTART:20290325T010000
END:DAYLIGHT
BEGIN:STANDARD
TZOFFSETFROM:+0200
TZOFFSETTO:+0100
TZNAME:CET
DTSTART:20291028T010000
END:STANDARD
END:VTIMEZONE
BEGIN:VEVENT
DTSTART;TZID=Europe/Paris:20240807T180000
DTEND;TZID=Europe/Paris:20261231T190000
DTSTAMP:20260422T111336
CREATED:20251230T104004Z
LAST-MODIFIED:20260109T083437Z
UID:10000230-1723053600-1798743600@yoga-a-corps-le-roux-nicolas.institutdegestiondustress.com
SUMMARY:Aubagne Cours de Yoga Les Solans
DESCRIPTION:Cours de yoga aux Solans Aubagne\nCherchez-vous un moyen d’améliorer votre bien-être physique et mental ? \nNe cherchez pas plus loin que Aubagne Cours de Yoga les Solans\, où vous pouvez découvrir la pratique du yoga dans un environnement unique et accueillant. Dirigées par le professeur certifié Nicolas Le Roux. \nDans une salle et un cadre atypique et chaleureux. \nAdresse : 61 Impasse allegriat Aubagne \nCours le jeudi de 18 h / 19 h \nCours le vendredi 18h30 / 19h30 \nPrix : 10 euros \nPlanning 2024/2025 \nTél : + 33 (0) 6 82 48 38 21 \nLes cours comprennent des formes de yoga dynamiques et traditionnelles\, en mettant l’accent sur la synchronisation de la respiration avec le mouvement. \nPour toute question – Nicolas est impatient de vous aider à trouver la paix intérieure et la force grâce à l’art du yoga. \nN’oubliez pas de vous inscrire à notre newsletter pour rester informé des dernières offres et obtenir un accès VIP à du contenu exclusif. \nAbonnez-vous à la newsletter A-corps et accédez aux derniers cours\, videos\, annonces et bien plus encore 
URL:https://yoga-a-corps-le-roux-nicolas.institutdegestiondustress.com/event/aubagne-cours-de-yoga-les-solans/
LOCATION:Les Solans Aubagne\, Les Solans\, 61 impasse allégriat\, Aubagne\, Bouches du Rhône\, 13400\, France
CATEGORIES:Cours évènements en vedette,Cours yoga en plein air,Cours yoga en salle,Cours yoga méditation en plein air,Cours yoga méditation en salle
ATTACH;FMTTYPE=image/jpeg:https://yoga-a-corps-le-roux-nicolas.institutdegestiondustress.com/wp-content/uploads/2022/08/20150822_200628-scaled.jpg
ORGANIZER;CN="Le Roux Nicolas":MAILTO:a-corps@live.fr
END:VEVENT
BEGIN:VEVENT
DTSTART;TZID=Europe/Paris:20251229T000000
DTEND;TZID=Europe/Paris:20280523T000000
DTSTAMP:20260422T111336
CREATED:20251230T103020Z
LAST-MODIFIED:20260109T083546Z
UID:10000083-1766966400-1842652800@yoga-a-corps-le-roux-nicolas.institutdegestiondustress.com
SUMMARY:Cours Yoga Aubagne Studio Vitamine
DESCRIPTION:Cours Yoga Aubagne Studio Vitamine \nDans une salle et un cadre atypique et chaleureux. \nAdresse : 105 traverses de la bastide 13400 Aubagne \nLe lundi : 12h/13h   \nLe Mardi : 15h/16h \nLe mercredi : 18h00/19h  \nLe Jeudi 11h/13h \nPlanning session 2024/2025 \nTéléphone : 06 82 48 38 21 \nLe yoga est la pratique d’un ensemble de postures et d ‘exercices qui vise à apporter un bien-être physique et mental. \nN’hésitez pas à me contacter je me ferai un plaisir de vous répondre. \nNicolas \nFaîtes du yoga chez vous\, dans un lieu en plein air et ou avec vos ami(e)s pour une ambiance plus intime et détendue ! \nPrenez soin de vous\, et n’oubliez pas !  \nLe lâcher prise à portée de souffle… Avec les autres pages du site. \nAbonnez-vous à la newsletter A-corps et accédez aux derniers cours\, videos\, annonces et bien plus encore 
URL:https://yoga-a-corps-le-roux-nicolas.institutdegestiondustress.com/event/cours-yoga-aubagne-studio-vitamine/
LOCATION:Vitamine Studio\, 105 traverse de la bastide\, Aubagne\, France\, 13400\, France
CATEGORIES:Cours évènements en vedette,Cours yoga (art martial zen) en salle,Cours yoga en salle,Cours yoga méditation en salle
ATTACH;FMTTYPE=image/jpeg:https://yoga-a-corps-le-roux-nicolas.institutdegestiondustress.com/wp-content/uploads/2021/08/Nicolas01-e1645982083938.jpg
ORGANIZER;CN="Le Roux Nicolas":MAILTO:a-corps@live.fr
END:VEVENT
END:VCALENDAR